BEGIN:VCALENDAR
VERSION:2.0
PRODID:spatie/icalendar-generator
DESCRIPTION:Events from Village of Bluemont\, Virginia
X-WR-CALDESC:Events from Village of Bluemont\, Virginia
REFRESH-INTERVAL;VALUE=DURATION:PT1440M
X-PUBLISHED-TTL:PT1440M
BEGIN:VTIMEZONE
TZID:America/New_York
BEGIN:STANDARD
DTSTART:20251102T020000Z
TZOFFSETFROM:-0400
TZOFFSETTO:-0500
END:STANDARD
BEGIN:DAYLIGHT
DTSTART:20260308T020000Z
TZOFFSETFROM:-0500
TZOFFSETTO:-0400
END:DAYLIGHT
END:VTIMEZONE
BEGIN:VTIMEZONE
TZID:UTC
BEGIN:STANDARD
DTSTART:20250725T132721Z
TZOFFSETFROM:+0000
TZOFFSETTO:+0000
END:STANDARD
END:VTIMEZONE
BEGIN:VEVENT
UID:33-4
DTSTAMP:20260421T132721Z
SUMMARY:Bluemont Community Association Meeting
LOCATION:Bluemont Community Center  33846 Snickersville Turnpike  Bluemont 
 VA 20135
ORGANIZER;CN=Web Admin:MAILTO:kathryn.kiritsis@gmail.com
RRULE:FREQ=MONTHLY;BYDAY=1WE;UNTIL=20301002T000000Z
DTSTART;TZID=America/New_York:20260401T190000
DTEND;TZID=America/New_York:20260401T200000
X-ALT-DESC;FMTTYPE=TEXT/HTML:Monthly meeting.
CATEGORIES:General
URL;VALUE=URI:https://bluemontvillage.org/mc-events/bluemont-community-asso
 ciation-meeting/?mc_id=33
METHOD:PUBLISH
END:VEVENT
END:VCALENDAR